BEGIN:VCALENDAR
VERSION:2.0
PRODID:TU Chemnitz
METHOD:PUBLISH
X-WR-CALNAME:Veranstaltungen der TU Chemnitz
X-WR-TIMEZONE:Europe/Berlin
BEGIN:VEVENT
CLASS:PUBLIC
DTSTART;TZID="Europe/Berlin":20111211T103000
DTEND;TZID="Europe/Berlin":20111211T113000
LOCATION:Reichenhainer Str. 90\, Chemnitz (Zentr. Hörsaal- und Seminargebäude)
SUMMARY:"Warum Bäume nicht vergessen können - über die Sprache der Bäume." (TU Chemnitz\, Kinder-Uni Chemnitz)
DESCRIPTION:Bäume sind gar nicht so still\, wie sie aussehen. Sie besitzen ihre eigene Sprache. Die Juniorstudenten werden nach dieser Vorlesung in der Kinder-Uni ihren nächsten Besuch im Wald mit anderen Augen und Ohren erleben.\nProf. Dr. Andreas Roloff\, Institut für Forstbotanik und Forstzoologie an der TU Dresden\nAnja Schanze\, 531-13300\, kinderuni@tu-chemnitz.de
ORGANIZER:MAILTO:anja.schanze@verwaltung.tu-chemnitz.de
UID:13761@www.tu-chemnitz.de
CREATED:20111020T091800Z
DTSTAMP:20210802T192520Z
END:VEVENT
END:VCALENDAR
