BEGIN:VCALENDAR
VERSION:2.0
PRODID:TU Chemnitz
METHOD:PUBLISH
X-WR-CALNAME:Veranstaltungen der TU Chemnitz
X-WR-TIMEZONE:Europe/Berlin
BEGIN:VEVENT
CLASS:PUBLIC
DTSTART;TZID="Europe/Berlin":20111108T213000
DTEND;TZID="Europe/Berlin":20111109T030000
LOCATION:Vettersstr. 52/54\, Chemnitz (Studentenwohnheim)
SUMMARY:Cocktailabend (windKanal e.V.)
DESCRIPTION:Der Klassiker im WK. Leckerste Cocktails und feinste Beats sorgen für Stimmung auf der Tanzfläche.\nhttp://www.windkanal-ev.de/\nwindkanal@tu-chemnitz.de
ORGANIZER:MAILTO:frederick.preckwinkel@s2003.tu-chemnitz.de
UID:13753@www.tu-chemnitz.de
CREATED:20111017T160900Z
DTSTAMP:20210802T192553Z
END:VEVENT
END:VCALENDAR
