BEGIN:VCALENDAR
VERSION:2.0
PRODID:TU Chemnitz
METHOD:PUBLISH
X-WR-CALNAME:Veranstaltungen der TU Chemnitz
X-WR-TIMEZONE:Europe/Berlin
BEGIN:VEVENT
CLASS:PUBLIC
DTSTART;TZID="Europe/Berlin":20111017T190000
DTEND;TZID="Europe/Berlin":20111017T203000
LOCATION:Reichenhainer Str. 55\, Chemnitz (Mensa)
SUMMARY:Chemnitz Contact Preisübergabe an das Gewinnerteam des Kreativwettbewerbs im Rahmen der O-Phase des FSR-WiWi (Chemnitz Contact e.V. in Kooperation mit dem FSR WiWi)
DESCRIPTION:Kostenfrei. 
ORGANIZER:MAILTO:andre.kawelke@s2006.tu-chemnitz.de
UID:13748@www.tu-chemnitz.de
CREATED:20111015T135300Z
DTSTAMP:20210802T192624Z
END:VEVENT
END:VCALENDAR
