BEGIN:VCALENDAR
VERSION:2.0
PRODID:TU Chemnitz
METHOD:PUBLISH
X-WR-CALNAME:Veranstaltungen der TU Chemnitz
X-WR-TIMEZONE:Europe/Berlin
BEGIN:VEVENT
CLASS:PUBLIC
DTSTART;VALUE=DATE:20111207
DTEND;VALUE=DATE:20111207
LOCATION:Wird noch bekannt gegeben.
SUMMARY:Unternehmensbesichtigung "Kieselstein Group" (Chemnitz Contact e.V. in Kooperation mit der Kieselstein Group)
DESCRIPTION:Anmedlung unter: info@chemnitz-contact.de\nKostenfrei für die Studenten der TU Chemnitz
ORGANIZER:MAILTO:andre.kawelke@s2006.tu-chemnitz.de
UID:13747@www.tu-chemnitz.de
CREATED:20111015T134800Z
DTSTAMP:20210802T192521Z
END:VEVENT
END:VCALENDAR
