BEGIN:VCALENDAR
VERSION:2.0
PRODID:TU Chemnitz
METHOD:PUBLISH
X-WR-CALNAME:Veranstaltungen der TU Chemnitz
X-WR-TIMEZONE:Europe/Berlin
BEGIN:VEVENT
CLASS:PUBLIC
DTSTART;TZID="Europe/Berlin":20111025T190000
DTEND;TZID="Europe/Berlin":20111025T210000
LOCATION:Reichenhainer Str. 70\, Chemnitz (Weinhold-Bau)
SUMMARY:Chemnitz Contact Info-Abend (Chemnitz Contact e.V.)
DESCRIPTION:Chemnitz Contact e.V. ist der studentische Messeverein an der TU Chemnitz. Interessierst DU dich für Marketing\, MultiMedia oder DU organisierst gern\, dann KOMM initiativ VORBEI\, informiere DICH und lass DICH von uns begeistern! Wir freuen uns auf DICH!\nMitglieder von Chemnitz Contact e.V.\nEine Anmeldung ist nicht erforderlich!
ORGANIZER:MAILTO:andre.kawelke@s2006.tu-chemnitz.de
UID:13746@www.tu-chemnitz.de
CREATED:20111015T133900Z
DTSTAMP:20210802T192633Z
END:VEVENT
END:VCALENDAR
