BEGIN:VCALENDAR
VERSION:2.0
PRODID:TU Chemnitz
METHOD:PUBLISH
X-WR-CALNAME:Veranstaltungen der TU Chemnitz
X-WR-TIMEZONE:Europe/Berlin
BEGIN:VEVENT
CLASS:PUBLIC
DTSTART;TZID="Europe/Berlin":20111103T160000
DTEND;TZID="Europe/Berlin":20111103T173000
LOCATION:Reichenhainer Str. 70\, Chemnitz (Rühlmann-Bau)
SUMMARY:Chemnitzer Mathematisches Colloquium (Fakultät für Mathematik)
DESCRIPTION:Prof. Dr. Helmut Abels\, Universität Regensburg\nDas Kolloquium wird von Herrn Prof. Ivan Veselic geleitet.
ORGANIZER:MAILTO:margit.matt@mathematik.tu-chemnitz.de
UID:13739@www.tu-chemnitz.de
CREATED:20111013T111700Z
DTSTAMP:20210802T192558Z
END:VEVENT
END:VCALENDAR
