BEGIN:VCALENDAR
VERSION:2.0
PRODID:TU Chemnitz
METHOD:PUBLISH
X-WR-CALNAME:Veranstaltungen der TU Chemnitz
X-WR-TIMEZONE:Europe/Berlin
BEGIN:VEVENT
CLASS:PUBLIC
DTSTART;TZID="Europe/Berlin":20111019T153000
DTEND;TZID="Europe/Berlin":20111019T184500
LOCATION:Reichenhainer Str. 90\, Chemnitz (Zentr. Hörsaal- und Seminargebäude)
SUMMARY:Integration von Produkt- und Prozessentwicklung (Fakultät für Maschinenbau\, Professur für Werkzeugmaschinen und Umformtechnik)
DESCRIPTION:Gastvorlesung des Honorarprofessors der Professur im Rahmen des Studium generale. Eingeladen sind alle interessierten Studenten technischer Studiengänge und Mitarbeiter der TU Chemnitz.\nProf. Dr.-Ing. Clemens Schmitz-Justen\, EASC Group Greenville/Stuttgart\nMadeleine Matthes\, 531-23500\, wzm@mb.tu-chemnitz.de
ORGANIZER:MAILTO:markus.richter@mb.tu-chemnitz.de
UID:13731@www.tu-chemnitz.de
CREATED:20111011T133200Z
DTSTAMP:20210802T192629Z
END:VEVENT
END:VCALENDAR
