BEGIN:VCALENDAR
VERSION:2.0
PRODID:TU Chemnitz
METHOD:PUBLISH
X-WR-CALNAME:Veranstaltungen der TU Chemnitz
X-WR-TIMEZONE:Europe/Berlin
BEGIN:VEVENT
CLASS:PUBLIC
DTSTART;TZID="Europe/Berlin":20120312T090000
DTEND;TZID="Europe/Berlin":20120313T160000
LOCATION: Agentur für Arbeit Chemnitz
SUMMARY:Was kann ich? Wege zum eigenen Potential (Agentur für Arbeit Chemnitz/Hochschulteam)
DESCRIPTION:Praktische Übungen sollen Ihnen Anregungen geben\, Ihre Kompetenzen und Ziele besser zu erkennen und umzusetzen.            (Am 12. und 13.03.2012 jeweils 9-16 Uhr)\nInes Gottwald und Dr. Wilfried Mehnert\, BeraterInnen für akad. Berufe \n Anmeldung unter Chemnitz.Hochschulteam@arbeitsagentur.de\, Tel. 0371/567-2240
ORGANIZER:MAILTO:evelin.haeusler@verwaltung.tu-chemnitz.de
UID:13709@www.tu-chemnitz.de
CREATED:20111005T090900Z
DTSTAMP:20210802T192443Z
END:VEVENT
END:VCALENDAR
