BEGIN:VCALENDAR
VERSION:2.0
PRODID:TU Chemnitz
METHOD:PUBLISH
X-WR-CALNAME:Veranstaltungen der TU Chemnitz
X-WR-TIMEZONE:Europe/Berlin
BEGIN:VEVENT
CLASS:PUBLIC
DTSTART;TZID="Europe/Berlin":20111214T173000
DTEND;TZID="Europe/Berlin":20111214T190000
LOCATION:Reichenhainer Str. 70\, Chemnitz (Rühlmann-Bau)
SUMMARY:Was Arbeitgeber wünschen – arbeitsmarktorientiert studieren (Agentur für Arbeit Chemnitz/Hochschulteam)
DESCRIPTION:Betrachtungen zum Arbeitsmarkt für Geisteswissenschaftler und deren Einstiegschancen\n Matthias Weinhold\, Berater für akad. Berufe\n Chemnitz.Hochschulteam@arbeitsagentur.de\, Tel. 0371/567-2240
ORGANIZER:MAILTO:evelin.haeusler@verwaltung.tu-chemnitz.de
UID:13703@www.tu-chemnitz.de
CREATED:20111005T082400Z
DTSTAMP:20210802T192524Z
END:VEVENT
END:VCALENDAR
