BEGIN:VCALENDAR
VERSION:2.0
PRODID:TU Chemnitz
METHOD:PUBLISH
X-WR-CALNAME:Veranstaltungen der TU Chemnitz
X-WR-TIMEZONE:Europe/Berlin
BEGIN:VEVENT
CLASS:PUBLIC
DTSTART;TZID="Europe/Berlin":20111024T210000
DTEND;TZID="Europe/Berlin":20111024T230000
LOCATION:Kino\, Reichenhainer Str. 35/37\, Keller
SUMMARY:[Campuskino * "mittendrin"] Taste the Waste (filmclub »mittendrin«)
DESCRIPTION:50% aller Lebensmittel in Europa werden weggeworfen (das reicht 2x\, um die Hungernden der Welt zu ernähren). Dok-Film über die geschmacklose Kehrseite der Wegwerfgesellschaft.\nfilmclub@tu-chemnitz.de
ORGANIZER:MAILTO:robert.gerstenberger@s2004.tu-chemnitz.de
UID:13690@www.tu-chemnitz.de
CREATED:20110930T151800Z
DTSTAMP:20210802T192634Z
END:VEVENT
END:VCALENDAR
