BEGIN:VCALENDAR
VERSION:2.0
PRODID:TU Chemnitz
METHOD:PUBLISH
X-WR-CALNAME:Veranstaltungen der TU Chemnitz
X-WR-TIMEZONE:Europe/Berlin
BEGIN:VEVENT
CLASS:PUBLIC
DTSTART;TZID="Europe/Berlin":20001220T170000
DTEND;TZID="Europe/Berlin":20001220T183000
LOCATION:Uni-Teil 3: Reichenhainer Str. 70\, Chemnitz (Zentr. Hörsaal- und Seminargebäude)
SUMMARY:Stark korrelierte Elektronen im Festkörper (Fakultät für Naturwissenschaften\, Institut für Physik)
DESCRIPTION:Physikalisches Kolloquium\nProf. Dr. Peter van Dongen\, Institut für Physik\, Johannes Gutenberg-Universität Mainz\nPD Dr. R.A. Römer\, Tel. 3146
ORGANIZER:MAILTO:sumar@hrz.tu-chemnitz.de
UID:1368@www.tu-chemnitz.de
CREATED:20001019T113600Z
DTSTAMP:20210802T202833Z
END:VEVENT
END:VCALENDAR
