BEGIN:VCALENDAR
VERSION:2.0
PRODID:TU Chemnitz
METHOD:PUBLISH
X-WR-CALNAME:Veranstaltungen der TU Chemnitz
X-WR-TIMEZONE:Europe/Berlin
BEGIN:VEVENT
CLASS:PUBLIC
DTSTART;TZID="Europe/Berlin":20110929T210000
DTEND;TZID="Europe/Berlin":20110929T233000
LOCATION:Kino\, Reichenhainer Str. 35/37\, Keller
SUMMARY:[Campuskino * "mittendrin"] Barney's Version (filmclub »mittendrin«)
DESCRIPTION:Zigarren\, Whiskeys und mindestens eine Ehe zuviel - Paul Panofskys große Lebensbeichte. Spritzig\, subversiv und mit herrlich-jüdischem Wortwitz.\nfilmclub@tu-chemnitz.de
ORGANIZER:MAILTO:robert.gerstenberger@s2004.tu-chemnitz.de
UID:13678@www.tu-chemnitz.de
CREATED:20110928T153400Z
DTSTAMP:20210802T192643Z
END:VEVENT
END:VCALENDAR
