BEGIN:VCALENDAR
VERSION:2.0
PRODID:TU Chemnitz
METHOD:PUBLISH
X-WR-CALNAME:Veranstaltungen der TU Chemnitz
X-WR-TIMEZONE:Europe/Berlin
BEGIN:VEVENT
CLASS:PUBLIC
DTSTART;TZID="Europe/Berlin":20111116T170000
DTEND;TZID="Europe/Berlin":20111116T190000
LOCATION:Reichenhainer Str. 90\, Chemnitz (Zentr. Hörsaal- und Seminargebäude)
SUMMARY:Festkonzert des Collegium musicum am Buß- und Bettag (TU Chemnitz\, Collegium musicum der TU Chemnitz e.V.)
DESCRIPTION:Im Programm des jährlichen Festkonzertes im Foyer des ZHSG steht diesmal: Bach: 3. Orchestersuite; Tschaikowski: Rokoko-Variationen; Haydn: Londoner Sinfonie; Solist: Tilman Trüdinger\, Robert-Schumann-Philharmonie Chemnitz; Dirigent: Michael Scheitzbach\nE-Mail: cmc@tu-chemnitz.de oder Tel. 0371 531 31525
ORGANIZER:MAILTO:matthias.ehrig@hrz.tu-chemnitz.de
UID:13672@www.tu-chemnitz.de
CREATED:20110927T122000Z
DTSTAMP:20210802T192557Z
END:VEVENT
END:VCALENDAR
