BEGIN:VCALENDAR
VERSION:2.0
PRODID:TU Chemnitz
METHOD:PUBLISH
X-WR-CALNAME:Veranstaltungen der TU Chemnitz
X-WR-TIMEZONE:Europe/Berlin
BEGIN:VEVENT
CLASS:PUBLIC
DTSTART;TZID="Europe/Berlin":20111208T150000
DTEND;TZID="Europe/Berlin":20111208T180000
LOCATION:Str. der Nationen 62\, Chemnitz (Böttcher-Bau)
SUMMARY:Stöckhardt-Kolloquium\, Nanomaterialien (TU Chemnitz\, Institut für Chemie zusammen mit der Gesellschaft Deutscher Chemiker (GDCh))
DESCRIPTION:Stöckhardt-Kolloquium\, Vorträge von Prof. Dr. Alexander Böker (RWTH Aachen) und Prof. Dr. Ulrich Simon (RWTH Aachen) zum Trendthema Nanomaterialien\nProf. Dr. Heinrich Lang\, Tel. (0371) 531-21210 E-Mail: heinrich.lang@chemie.tu-chemnitz.de
ORGANIZER:MAILTO:dunja.grimm@chemie.tu-chemnitz.de
UID:13664@www.tu-chemnitz.de
CREATED:20110921T144000Z
DTSTAMP:20210802T192520Z
END:VEVENT
END:VCALENDAR
