BEGIN:VCALENDAR
VERSION:2.0
PRODID:TU Chemnitz
METHOD:PUBLISH
X-WR-CALNAME:Veranstaltungen der TU Chemnitz
X-WR-TIMEZONE:Europe/Berlin
BEGIN:VEVENT
CLASS:PUBLIC
DTSTART;TZID="Europe/Berlin":20110923T090000
DTEND;TZID="Europe/Berlin":20110923T180000
LOCATION:Reichenhainer Str. 90\, Chemnitz (Zentr. Hörsaal- und Seminargebäude)
SUMMARY:Sächsische Steuertagung (Fakultät für Wirtschaftswissenschaften\, BWL I / BWL)
DESCRIPTION:Herausforderungen für Steuerberater\, Wirtschaftsprüfer und Unternehmensleitung: aktuelle Brennpunkte im Mittelstand\nDipl.-Kffr. Theresa Rieß\, theresa.riess@wirtschaft.tu-chemnitz.de\, Tel.: 0371 / 531 36 00 4\, Dipl.-Kff. Antje Richter
ORGANIZER:MAILTO:silke.huesing@wirtschaft.tu-chemnitz.de
UID:13649@www.tu-chemnitz.de
CREATED:20110914T113700Z
DTSTAMP:20210802T192641Z
END:VEVENT
END:VCALENDAR
