BEGIN:VCALENDAR
VERSION:2.0
PRODID:TU Chemnitz
METHOD:PUBLISH
X-WR-CALNAME:Veranstaltungen der TU Chemnitz
X-WR-TIMEZONE:Europe/Berlin
BEGIN:VEVENT
CLASS:PUBLIC
DTSTART;TZID="Europe/Berlin":20110922T180000
DTEND;TZID="Europe/Berlin":20110922T190000
LOCATION:Industriemuseum Chemnitz\, Sonderausstellung\, Zwickauer Straße 119
SUMMARY:Vorschule der Experimentalphysik: Ferdinand Adolf Weinholds Wirken in Chemnitz (Universitätsarchiv)
DESCRIPTION:Anhand ausgewählter Experimente nach Adolf F. Weinholds "Vorschule der Experimentalphysik" soll Weinholds Wirken an der Kgl. Höhern Gewerbschule Chemnitz im letzten Drittel des 19. Jahrhunderts betrachtet werden.\nProf. em. Dr. Manfred Wobst\, Dr. Hans-Gottfried Hempel\nStephan Luther\, 0371 53113200\, uni-archiv@tu-chemnitz.de
ORGANIZER:MAILTO:stephan.luther@hrz.tu-chemnitz.de
UID:13634@www.tu-chemnitz.de
CREATED:20110908T084900Z
DTSTAMP:20210802T192641Z
END:VEVENT
END:VCALENDAR
