BEGIN:VCALENDAR
VERSION:2.0
PRODID:TU Chemnitz
METHOD:PUBLISH
X-WR-CALNAME:Veranstaltungen der TU Chemnitz
X-WR-TIMEZONE:Europe/Berlin
BEGIN:VEVENT
CLASS:PUBLIC
DTSTART;TZID="Europe/Berlin":20001115T140000
DTEND;TZID="Europe/Berlin":20001115T200000
LOCATION:Uni-Teil 3: Reichenhainer Str. 70\, Chemnitz (Zentr. Hörsaal- und Seminargebäude)
SUMMARY:Workshop mit Monster.de (MTP Chemnitz und Monster.de)
DESCRIPTION:Wie etabliere ich eine neue Marke am Markt?\n\nDies Frage stellt euch Monster.de in diesem Workshop.\nFalls Ihr Lust habt Monster.de kennenzulernen\, dann meldet euch einfach an.\n\n\nRene Schulz von Monster.de\nrene.busch@mtp.org
ORGANIZER:MAILTO:bure@hrz.tu-chemnitz.de
UID:1362@www.tu-chemnitz.de
CREATED:20001018T084100Z
DTSTAMP:20210802T202852Z
END:VEVENT
END:VCALENDAR
