BEGIN:VCALENDAR
VERSION:2.0
PRODID:TU Chemnitz
METHOD:PUBLISH
X-WR-CALNAME:Veranstaltungen der TU Chemnitz
X-WR-TIMEZONE:Europe/Berlin
BEGIN:VEVENT
CLASS:PUBLIC
DTSTART;TZID="Europe/Berlin":20111123T190000
DTEND;TZID="Europe/Berlin":20111123T210000
LOCATION:Das TIETZ; Stadtbibliothek; Lichthof
SUMMARY:Czeslaw Milosz: Verführtes Denken (1959) (Philosophische Fakultät\, Professur Neuere Deutsche und Vergleichende Literaturwissenschaft)
DESCRIPTION:Öffentliche Veranstaltung der Ringvorlesung "Mein Buch". ProfessorInnen und DozentInnen der TU Chemnitz stellen Bücher vor\, die ihr Denken und mitunter sogar ihr Leben beeinflusst haben und die ihnen ganz persönlich am Herzen liegen.\nProf. Dr. Stefan Garsztecki\, TU Chemnitz\nbernadette.malinowski@phil.tu-chemnitz.de
ORGANIZER:MAILTO:karla.kebsch@phil.tu-chemnitz.de
UID:13598@www.tu-chemnitz.de
CREATED:20110823T103600Z
DTSTAMP:20210802T192550Z
END:VEVENT
END:VCALENDAR
