BEGIN:VCALENDAR
VERSION:2.0
PRODID:TU Chemnitz
METHOD:PUBLISH
X-WR-CALNAME:Veranstaltungen der TU Chemnitz
X-WR-TIMEZONE:Europe/Berlin
BEGIN:VEVENT
CLASS:PUBLIC
DTSTART;TZID="Europe/Berlin":20111026T190000
DTEND;TZID="Europe/Berlin":20111026T210000
LOCATION:Das TIETZ; Stadtbibliothek; Lichthof
SUMMARY:Der kleine Robert/ Le Petit Robert; Dictionnaire alphabètique et analogique de la langue francaise (1967) (Philosophische Fakultät\, Professur Neuere Deutsche und Vergleichende Literaturwissenschaft)
DESCRIPTION:Öffentliche Veranstaltung der Ringvorlesung "Mein Buch". ProfessorInnen und DozentInnen der TU Chemnitz stellen Bücher vor\, die ihr Denken und mitunter sogar ihr Leben beeinflusst haben und die ihnen ganz persönlich am Herzen liegen.\nProf. Ulrike Brummert\, docteur d' Etat\, TU Chemnitz\nbernadette.malinowski@phil.tu-chemnitz.de
ORGANIZER:MAILTO:karla.kebsch@phil.tu-chemnitz.de
UID:13596@www.tu-chemnitz.de
CREATED:20110823T102300Z
DTSTAMP:20210802T192632Z
END:VEVENT
END:VCALENDAR
