BEGIN:VCALENDAR
VERSION:2.0
PRODID:TU Chemnitz
METHOD:PUBLISH
X-WR-CALNAME:Veranstaltungen der TU Chemnitz
X-WR-TIMEZONE:Europe/Berlin
BEGIN:VEVENT
CLASS:PUBLIC
DTSTART;TZID="Europe/Berlin":20111102T190000
DTEND;TZID="Europe/Berlin":20111102T220000
LOCATION:Reichenhainer Str. 90\, Chemnitz (Zentr. Hörsaal- und Seminargebäude)
SUMMARY:"Vorübergehend sein und bleiben" Passagen-Denken in Literatur\, Philosophie und Wissenschaft (Philosophische Fakultät)
DESCRIPTION:Antrittsvorlesung der Professur Neuere Deutsche und Vergleichende Literaturwissenschaft des Instituts für Germanistik und Kommunikation. Die Veranstaltung ist öffentlich\, es ergeht herzliche Einladung.\nProf. Dr. Bernadette Malinowski\, Chemnitz\nbernadette.malinowski@phil.tu-chemnitz.de; karla.kebsch@phil.tu-chemnitz.de
ORGANIZER:MAILTO:karla.kebsch@phil.tu-chemnitz.de
UID:13593@www.tu-chemnitz.de
CREATED:20110823T095100Z
DTSTAMP:20210802T192544Z
END:VEVENT
END:VCALENDAR
