BEGIN:VCALENDAR
VERSION:2.0
PRODID:TU Chemnitz
METHOD:PUBLISH
X-WR-CALNAME:Veranstaltungen der TU Chemnitz
X-WR-TIMEZONE:Europe/Berlin
BEGIN:VEVENT
CLASS:PUBLIC
DTSTART;TZID="Europe/Berlin":20111124T200000
DTEND;TZID="Europe/Berlin":20111124T220000
LOCATION:Str. der Nationen 62\, Chemnitz (Altes Heizhaus)
SUMMARY:Dahr - die Macht der Zeit (Agricolaforum Chemnitz)
DESCRIPTION:Von der altarabischen Poesie zum Koran\, EINTRITT FREI\nNora Schmidt\ninfo@ka-dd.de
ORGANIZER:MAILTO:stephanie.kraemer@verwaltung.tu-chemnitz.de
UID:13580@www.tu-chemnitz.de
CREATED:20110816T100300Z
DTSTAMP:20210802T192549Z
END:VEVENT
END:VCALENDAR
