BEGIN:VCALENDAR
VERSION:2.0
PRODID:TU Chemnitz
METHOD:PUBLISH
X-WR-CALNAME:Veranstaltungen der TU Chemnitz
X-WR-TIMEZONE:Europe/Berlin
BEGIN:VEVENT
CLASS:PUBLIC
DTSTART;TZID="Europe/Berlin":20110708T200000
DTEND;TZID="Europe/Berlin":20110709T020000
LOCATION:Club der Kulturen
SUMMARY:Tschechische Nacht (Tschechisch-slowakischer Club)
DESCRIPTION:Ahoj! Das Semester neigt sich dem Ende entgegen und die Prüfungen stehen vor der Tür. Wir möchten euch zur letzten Veranstaltung des tschechisch-slowakischen Klubs\, der tschechischen Nacht\,einladen. Feiert mit uns!\nwww.club-der-kulturen.de
ORGANIZER:MAILTO:antonia.peters@s2009.tu-chemnitz.de
UID:13554@www.tu-chemnitz.de
CREATED:20110702T122000Z
DTSTAMP:20210802T192704Z
END:VEVENT
END:VCALENDAR
