BEGIN:VCALENDAR
VERSION:2.0
PRODID:TU Chemnitz
METHOD:PUBLISH
X-WR-CALNAME:Veranstaltungen der TU Chemnitz
X-WR-TIMEZONE:Europe/Berlin
BEGIN:VEVENT
CLASS:PUBLIC
DTSTART;TZID="Europe/Berlin":20110708T133000
DTEND;TZID="Europe/Berlin":20110708T133000
LOCATION:Reichenhainer Str. 90\, Chemnitz (Zentr. Hörsaal- und Seminargebäude)
SUMMARY:Wiss. Vortrag im Rahmen des &ouml;ffentl. Habilitationsverfahrens: (Fakultät für Naturwissenschaften\, Institut für Physik)
DESCRIPTION:Thema: "Die Textur von Genussmitteln und ihr Einfluss auf das Mundgefühl - Oder: Wann ist Speiseeis besonders cremig?"\nDr. Harald Graaf (TUC / OSMP)\nnaturwissenschaften@tu-chemnitz.de
ORGANIZER:MAILTO:feige@physik.tu-chemnitz.de
UID:13550@www.tu-chemnitz.de
CREATED:20110701T123200Z
DTSTAMP:20210802T192658Z
END:VEVENT
END:VCALENDAR
