BEGIN:VCALENDAR
VERSION:2.0
PRODID:TU Chemnitz
METHOD:PUBLISH
X-WR-CALNAME:Veranstaltungen der TU Chemnitz
X-WR-TIMEZONE:Europe/Berlin
BEGIN:VEVENT
CLASS:PUBLIC
DTSTART;TZID="Europe/Berlin":20001117T163000
DTEND;TZID="Europe/Berlin":20001117T180000
LOCATION:Uni-Teil 3: Reichenhainer Str. 70\, Chemnitz (Zentr. Hörsaal- und Seminargebäude)
SUMMARY:El Niño - Eine Klimaschaukel im Südpazifik (Chemnitzer Förderverein für Physik (CFP))
DESCRIPTION:Dr. R. A. Römer (TUC/CFP)
ORGANIZER:MAILTO:lfe@hrz.tu-chemnitz.de
UID:1354@www.tu-chemnitz.de
CREATED:20001016T164900Z
DTSTAMP:20210802T202847Z
END:VEVENT
END:VCALENDAR
