BEGIN:VCALENDAR
VERSION:2.0
PRODID:TU Chemnitz
METHOD:PUBLISH
X-WR-CALNAME:Veranstaltungen der TU Chemnitz
X-WR-TIMEZONE:Europe/Berlin
BEGIN:VEVENT
CLASS:PUBLIC
DTSTART;TZID="Europe/Berlin":20110711T210000
DTEND;TZID="Europe/Berlin":20110711T230000
LOCATION:Kino\, Reichenhainer Str. 35/37\, Keller
SUMMARY:[Campuskino * "mittendrin"] Die polnische Emigration im Film:Ide na Saksy/Ich gehe nach Sachsen (Eintritt frei!) (filmclub »mittendrin«)
DESCRIPTION:Polinnen in Chemnitz - in unterschiedlichen Zeiten eingereist\, unterschiedliche eingeschlagene Lebenswege - und doch eint sie eine gemeinsame Herkunft und ihr Wohnort Chemnitz. Mit Publikumsgespräch mit Regisseur und einer der Portraitierten.\nfilmclub@tu-chemnitz.de
ORGANIZER:MAILTO:robert.gerstenberger@s2004.tu-chemnitz.de
UID:13538@www.tu-chemnitz.de
CREATED:20110627T172200Z
DTSTAMP:20210802T192705Z
END:VEVENT
END:VCALENDAR
