BEGIN:VCALENDAR
VERSION:2.0
PRODID:TU Chemnitz
METHOD:PUBLISH
X-WR-CALNAME:Veranstaltungen der TU Chemnitz
X-WR-TIMEZONE:Europe/Berlin
BEGIN:VEVENT
CLASS:PUBLIC
DTSTART;TZID="Europe/Berlin":20110628T210000
DTEND;TZID="Europe/Berlin":20110628T210000
LOCATION:Club der Kulturen - Thüringer Weg 3
SUMMARY:"lesbar" (Studentenrat)
DESCRIPTION:Jakob Hein – "Liebe ist ein hormonell bedingter Zustand" -- Die meisten Mädchen haben mich immer nur übersehen – Jakob Heins schamlos amüsanter Roman über die Liebe. -- Eintritt frei.\nJakob Hein\nstura-kultur@tu-chemnitz.de
ORGANIZER:MAILTO:thomas.holzaepfel@s2007.tu-chemnitz.de
UID:13523@www.tu-chemnitz.de
CREATED:20110621T211700Z
DTSTAMP:20210802T192720Z
END:VEVENT
END:VCALENDAR
