BEGIN:VCALENDAR
VERSION:2.0
PRODID:TU Chemnitz
METHOD:PUBLISH
X-WR-CALNAME:Veranstaltungen der TU Chemnitz
X-WR-TIMEZONE:Europe/Berlin
BEGIN:VEVENT
CLASS:PUBLIC
DTSTART;TZID="Europe/Berlin":20110707T180000
DTEND;TZID="Europe/Berlin":20110707T190000
LOCATION:Reichenhainer Str. 90\, Chemnitz (Zentr. Hörsaal- und Seminargebäude)
SUMMARY:Einsatz von Lichtbogentechnologien bei der AUDI AG (Fakultät für Maschinenbau\, Professur Schweißtechnik)
DESCRIPTION:Dipl.-Ing. D. Rudolph\, AUDI AG\, Neckarsulm\nStefan Brumm\, 0371/531-38671\, stefan.brumm@mb.tu-chemnitz.de
ORGANIZER:MAILTO:stefan.brumm@mb.tu-chemnitz.de
UID:13520@www.tu-chemnitz.de
CREATED:20110620T111100Z
DTSTAMP:20210802T192658Z
END:VEVENT
END:VCALENDAR
