BEGIN:VCALENDAR
VERSION:2.0
PRODID:TU Chemnitz
METHOD:PUBLISH
X-WR-CALNAME:Veranstaltungen der TU Chemnitz
X-WR-TIMEZONE:Europe/Berlin
BEGIN:VEVENT
CLASS:PUBLIC
DTSTART;TZID="Europe/Berlin":20001020T163000
DTEND;TZID="Europe/Berlin":20001020T180000
LOCATION:Uni-Teil 3: Reichenhainer Str. 70\, Chemnitz (Zentr. Hörsaal- und Seminargebäude)
SUMMARY:Von Seifenlösungen zu intelligenten Mikrogelen (Chemnitzer Förderverein für Physik (CFP))
DESCRIPTION:Dr. Th. Hellweg (TUC/CFP)
ORGANIZER:MAILTO:lfe@hrz.tu-chemnitz.de
UID:1352@www.tu-chemnitz.de
CREATED:20001016T164300Z
DTSTAMP:20210802T202901Z
END:VEVENT
END:VCALENDAR
