BEGIN:VCALENDAR
VERSION:2.0
PRODID:TU Chemnitz
METHOD:PUBLISH
X-WR-CALNAME:Veranstaltungen der TU Chemnitz
X-WR-TIMEZONE:Europe/Berlin
BEGIN:VEVENT
CLASS:PUBLIC
DTSTART;TZID="Europe/Berlin":20110623T192500
DTEND;TZID="Europe/Berlin":20110623T203000
LOCATION:Reichenhainer Str. 90\, Chemnitz (Zentr. Hörsaal- und Seminargebäude)
SUMMARY:Konzert Projektorchester Würzburg (Fakultät für Maschinenbau\, Fachschaftsrat)
DESCRIPTION:E-Mail: fsrmb@tu-chemnitz.de\, Tel. 0377153116300
ORGANIZER:MAILTO:steffen.kehrer@s2005.tu-chemnitz.de
UID:13517@www.tu-chemnitz.de
CREATED:20110617T120900Z
DTSTAMP:20210802T192715Z
END:VEVENT
END:VCALENDAR
