BEGIN:VCALENDAR
VERSION:2.0
PRODID:TU Chemnitz
METHOD:PUBLISH
X-WR-CALNAME:Veranstaltungen der TU Chemnitz
X-WR-TIMEZONE:Europe/Berlin
BEGIN:VEVENT
CLASS:PUBLIC
DTSTART;TZID="Europe/Berlin":20110614T200000
DTEND;TZID="Europe/Berlin":20110614T230000
LOCATION:Club der Kulturen
SUMMARY:Cycling Ireland (Club der Kulturen (English Club))
DESCRIPTION:Heute laden wir euch ein auf eine kleine\, visuelle Radreise durch den wunderschönen Südwesten Irlands ein! Bei köstlichem Irish Stew und einem Pint Guinness werdet ihr Wissenswertes über die grüne Insel erfahren.Dazu gibt es irische Musik und viele Fotos!\nkarsten.mahlberg@s2003.tu-chemnitz.de
ORGANIZER:MAILTO:karsten.mahlberg@s2003.tu-chemnitz.de
UID:13506@www.tu-chemnitz.de
CREATED:20110610T181300Z
DTSTAMP:20210802T192718Z
END:VEVENT
END:VCALENDAR
