BEGIN:VCALENDAR
VERSION:2.0
PRODID:TU Chemnitz
METHOD:PUBLISH
X-WR-CALNAME:Veranstaltungen der TU Chemnitz
X-WR-TIMEZONE:Europe/Berlin
BEGIN:VEVENT
CLASS:PUBLIC
DTSTART;TZID="Europe/Berlin":19981108T160000
DTEND;TZID="Europe/Berlin":19981108T180000
LOCATION: Stadthalle Chemnitz\, Kleiner Saal
SUMMARY:25. Galeriekonzert des Collegium musicum der TU Chemnitz (Philosophische Fakultät\, Musisch-kulturelles Zentrum)
DESCRIPTION:Sinfonisch-chorsinfonisches Konzert mit 4 Solisten
ORGANIZER:MAILTO:meh@hrz.tu-chemnitz.de
UID:135@www.tu-chemnitz.de
CREATED:19981020T131900Z
DTSTAMP:20210802T203545Z
END:VEVENT
END:VCALENDAR
