BEGIN:VCALENDAR
VERSION:2.0
PRODID:TU Chemnitz
METHOD:PUBLISH
X-WR-CALNAME:Veranstaltungen der TU Chemnitz
X-WR-TIMEZONE:Europe/Berlin
BEGIN:VEVENT
CLASS:PUBLIC
DTSTART;TZID="Europe/Berlin":20110602T110000
DTEND;TZID="Europe/Berlin":20110602T170000
LOCATION:Vettersstr. 52/54\, Chemnitz (Studentenwohnheim)
SUMMARY:Männertag Biergarten (windKanal e.V.)
DESCRIPTION:Den Männertag in gemütlicher Atmosphäre genießen...Helles und Hefeweizen vom Fass!\nwindkanal@tu-chemnitz.de
ORGANIZER:MAILTO:frederick.preckwinkel@s2003.tu-chemnitz.de
UID:13493@www.tu-chemnitz.de
CREATED:20110531T010000Z
DTSTAMP:20210802T192711Z
END:VEVENT
END:VCALENDAR
