BEGIN:VCALENDAR
VERSION:2.0
PRODID:TU Chemnitz
METHOD:PUBLISH
X-WR-CALNAME:Veranstaltungen der TU Chemnitz
X-WR-TIMEZONE:Europe/Berlin
BEGIN:VEVENT
CLASS:PUBLIC
DTSTART;TZID="Europe/Berlin":20110621T210000
DTEND;TZID="Europe/Berlin":20110621T230000
LOCATION:Kino\, Reichenhainer Str. 35/37\, Keller
SUMMARY:[Campuskino * "mittendrin"] Mütter und Töchter (filmclub »mittendrin«)
DESCRIPTION:Episodenfilm mit dem Thema Adoption als wundem Punkt - kein Rührstück\, sondern komplexes\, aufrichtiges Emotionskino mit brillanter Besetzung: Naomi Watts\, Samuel L. Jackson\, Anne Bening.\nfilmclub@tu-chemnitz.de
ORGANIZER:MAILTO:robert.gerstenberger@s2004.tu-chemnitz.de
UID:13489@www.tu-chemnitz.de
CREATED:20110530T172800Z
DTSTAMP:20210802T192708Z
END:VEVENT
END:VCALENDAR
