BEGIN:VCALENDAR
VERSION:2.0
PRODID:TU Chemnitz
METHOD:PUBLISH
X-WR-CALNAME:Veranstaltungen der TU Chemnitz
X-WR-TIMEZONE:Europe/Berlin
BEGIN:VEVENT
CLASS:PUBLIC
DTSTART;TZID="Europe/Berlin":20110602T210000
DTEND;TZID="Europe/Berlin":20110602T230000
LOCATION:Kino\, Reichenhainer Str. 35/37\, Keller
SUMMARY:[Campuskino * "mittendrin"] Sucker Punch (filmclub »mittendrin«)
DESCRIPTION:Zack Snyder schickt Baby Doll auf einen wilden Trip zwischen Irrenhaus und Nobelpuff und wechselt plötzlich in große Action- und Fantasy-Szenarien mit Computergame-Look. Futter für's Auge!\nfilmclub@tu-chemnitz.de
ORGANIZER:MAILTO:robert.gerstenberger@s2004.tu-chemnitz.de
UID:13486@www.tu-chemnitz.de
CREATED:20110530T172400Z
DTSTAMP:20210802T192717Z
END:VEVENT
END:VCALENDAR
