BEGIN:VCALENDAR
VERSION:2.0
PRODID:TU Chemnitz
METHOD:PUBLISH
X-WR-CALNAME:Veranstaltungen der TU Chemnitz
X-WR-TIMEZONE:Europe/Berlin
BEGIN:VEVENT
CLASS:PUBLIC
DTSTART;TZID="Europe/Berlin":20110525T171500
DTEND;TZID="Europe/Berlin":20110525T171500
LOCATION:Reichenhainer Str. 90\, Chemnitz (Zentr. Hörsaal- und Seminargebäude)
SUMMARY:Physikalisches Kolloquium (Fakultät für Naturwissenschaften\, Institut für Physik)
DESCRIPTION:Thema: "Ultrafast relaxation dynamics in graphene and carbon nanotubes"\nDr. Ermin Malic (Institut für Theoretische Physik\, TU Berlin)\nProf. Dr. Rudolf Bratschitsch
ORGANIZER:MAILTO:ute.vales@physik.tu-chemnitz.de
UID:13468@www.tu-chemnitz.de
CREATED:20110520T123300Z
DTSTAMP:20210802T192738Z
END:VEVENT
END:VCALENDAR
