BEGIN:VCALENDAR
VERSION:2.0
PRODID:TU Chemnitz
METHOD:PUBLISH
X-WR-CALNAME:Veranstaltungen der TU Chemnitz
X-WR-TIMEZONE:Europe/Berlin
BEGIN:VEVENT
CLASS:PUBLIC
DTSTART;TZID="Europe/Berlin":20110614T095000
DTEND;TZID="Europe/Berlin":20110614T112000
LOCATION:Wilhelm-Raabe-Str. 43\, Chemnitz
SUMMARY:Organisation und Arbeitsweise des Landesamtes für Verfassungsschutz Sachsen & Rechts- und Linksextremismus in Sachsen (Philosophische Fakultät\, Professur Politische Systeme\, Politische Institutionen)
DESCRIPTION:Reinhard Boos\, Präsident des LfV Sachsen \nDer Vortrag ist kostenlos und öffentlich\, eine Anmeldung nicht erforderlich.
ORGANIZER:MAILTO:madeleine.petschke@phil.tu-chemnitz.de
UID:13465@www.tu-chemnitz.de
CREATED:20110519T145500Z
DTSTAMP:20210802T192708Z
END:VEVENT
END:VCALENDAR
