BEGIN:VCALENDAR
VERSION:2.0
PRODID:TU Chemnitz
METHOD:PUBLISH
X-WR-CALNAME:Veranstaltungen der TU Chemnitz
X-WR-TIMEZONE:Europe/Berlin
BEGIN:VEVENT
CLASS:PUBLIC
DTSTART;TZID="Europe/Berlin":20110621T140000
DTEND;TZID="Europe/Berlin":20110621T190000
LOCATION:Reichenhainer Str. 90\, Chemnitz (Zentr. Hörsaal- und Seminargebäude)
SUMMARY:Auftaktveranstaltung der Chemnitzer Initiative Technologien für die Elektromobilität (CITE) (TU Chemnitz)
DESCRIPTION:Die Chemnitzer Initiative "Technologien der Elektromobilität" bündelt Kompetenzen der TU Chemnitz und fördert aktiv die Vernetzung mit der Industrie auf regionaler\, nationaler und europäischer Ebene hin zu einer noch intensiveren direkten Zusammenarbeit.\nProf. O. Kanoun\, 0371-531-36931\, kanoun@ieee.org
ORGANIZER:MAILTO:olfa.kanoun@etit.tu-chemnitz.de
UID:13463@www.tu-chemnitz.de
CREATED:20110518T223900Z
DTSTAMP:20210802T192707Z
END:VEVENT
END:VCALENDAR
