BEGIN:VCALENDAR
VERSION:2.0
PRODID:TU Chemnitz
METHOD:PUBLISH
X-WR-CALNAME:Veranstaltungen der TU Chemnitz
X-WR-TIMEZONE:Europe/Berlin
BEGIN:VEVENT
CLASS:PUBLIC
DTSTART;TZID="Europe/Berlin":20110621T134500
DTEND;TZID="Europe/Berlin":20110621T190000
LOCATION:Sportplatz\, Chemnitz
SUMMARY:Volleyballturnier des Fsr Wiwi (Fakultät für Wirtschaftswissenschaften\, Fsr Wiwi)
DESCRIPTION:Das alljährliche Volleyballturnier des Fsr Wiwi geht in die nächste Runde. Zu gewinnen gibt es wieder tolle Preise. Meldet euch als Team (min. 2 Frauen) an. 3\,2\,1 ... Aufschlag!\nFsr Wiwi\nBüro Fsr Wiwi
ORGANIZER:MAILTO:rico.pommerenke@s2007.tu-chemnitz.de
UID:13461@www.tu-chemnitz.de
CREATED:20110516T152700Z
DTSTAMP:20210802T192719Z
END:VEVENT
END:VCALENDAR
