BEGIN:VCALENDAR
VERSION:2.0
PRODID:TU Chemnitz
METHOD:PUBLISH
X-WR-CALNAME:Veranstaltungen der TU Chemnitz
X-WR-TIMEZONE:Europe/Berlin
BEGIN:VEVENT
CLASS:PUBLIC
DTSTART;TZID="Europe/Berlin":20110517T100000
DTEND;TZID="Europe/Berlin":20110518T140000
LOCATION:Reichenhainer Str. 55\, Chemnitz (Mensa)
SUMMARY:Personalratswahlen (Wahlvorstand Personalratswahl)
DESCRIPTION:Wahlen des Personalrats der TU Chemnitz und des Hauptpersonalrats im SMWK\nDr. Kiehnscherf\, Tel. 33275
ORGANIZER:MAILTO:thomas.raschke@zfm.tu-chemnitz.de
UID:13450@www.tu-chemnitz.de
CREATED:20110512T150100Z
DTSTAMP:20210802T192743Z
END:VEVENT
END:VCALENDAR
