BEGIN:VCALENDAR
VERSION:2.0
PRODID:TU Chemnitz
METHOD:PUBLISH
X-WR-CALNAME:Veranstaltungen der TU Chemnitz
X-WR-TIMEZONE:Europe/Berlin
BEGIN:VEVENT
CLASS:PUBLIC
DTSTART;TZID="Europe/Berlin":20110520T200000
DTEND;TZID="Europe/Berlin":20110521T040000
LOCATION:Club der Kulturen Thüringer Weg 3
SUMMARY:Sorry\, Babuschka! (Club der Kulturen)
DESCRIPTION:Es wird gefeiert-diesmal auf die russische Art und Weise mit Sakuska\, guter Musik und natürlich mit den ein oder anderen nationalen Getränken :) &#1079;&#1072; &#1079;&#1076;&#1086;&#1088;&#1086;&#1074;&#1100;&#1077;!\nClub der Kulturen
ORGANIZER:MAILTO:susann.fink@s2003.tu-chemnitz.de
UID:13447@www.tu-chemnitz.de
CREATED:20110512T132300Z
DTSTAMP:20210802T192740Z
END:VEVENT
END:VCALENDAR
