BEGIN:VCALENDAR
VERSION:2.0
PRODID:TU Chemnitz
METHOD:PUBLISH
X-WR-CALNAME:Veranstaltungen der TU Chemnitz
X-WR-TIMEZONE:Europe/Berlin
BEGIN:VEVENT
CLASS:PUBLIC
DTSTART;TZID="Europe/Berlin":20111105T193000
DTEND;TZID="Europe/Berlin":20111105T210000
LOCATION:Str. der Nationen 62\, Chemnitz (Altes Heizhaus)
SUMMARY:„Bedeutung der Ethik für politisches Handeln“ ("Chemnitz Forum - Glauben und Denken")
DESCRIPTION:Prof. Dr. Werner Patzelt\, Annekathrin Giegengack\, MDB Frank Heinrich\nUlrich Täuber: ulrich.taeuber@Campus-D.de
ORGANIZER:MAILTO:stephanie.kraemer@verwaltung.tu-chemnitz.de
UID:13439@www.tu-chemnitz.de
CREATED:20110509T135000Z
DTSTAMP:20210802T192550Z
END:VEVENT
END:VCALENDAR
