BEGIN:VCALENDAR
VERSION:2.0
PRODID:TU Chemnitz
METHOD:PUBLISH
X-WR-CALNAME:Veranstaltungen der TU Chemnitz
X-WR-TIMEZONE:Europe/Berlin
BEGIN:VEVENT
CLASS:PUBLIC
DTSTART;TZID="Europe/Berlin":20110514T193000
DTEND;TZID="Europe/Berlin":20110514T210000
LOCATION:Str. der Nationen 62\, Chemnitz (Altes Heizhaus)
SUMMARY:„Macht - oder Marktwirtschaft“ Brauchen wir eine neue Wirtschaftsordnung?  ("Chemnitz Forum - Glauben und Denken")
DESCRIPTION:Prof. Werner Lachmann\nUlrich Täuber: ulrich.taeuber@Campus-D.de
ORGANIZER:MAILTO:stephanie.kraemer@verwaltung.tu-chemnitz.de
UID:13436@www.tu-chemnitz.de
CREATED:20110509T134500Z
DTSTAMP:20210802T192734Z
END:VEVENT
END:VCALENDAR
