BEGIN:VCALENDAR
VERSION:2.0
PRODID:TU Chemnitz
METHOD:PUBLISH
X-WR-CALNAME:Veranstaltungen der TU Chemnitz
X-WR-TIMEZONE:Europe/Berlin
BEGIN:VEVENT
CLASS:PUBLIC
DTSTART;TZID="Europe/Berlin":20110622T090000
DTEND;TZID="Europe/Berlin":20110622T163000
LOCATION:Reichenhainer Str. 90\, Chemnitz (Zentr. Hörsaal- und Seminargebäude)
SUMMARY:Workshop Elektromagnetische Verträglichkeit (EMV) (Fakultät für Elektrotechnik und Informationstechnik\, Professur für Mess- und Sensortechnik)
DESCRIPTION:Kristin Fichtner\, 0371 / 531 - 35755\, mst@etit.tu-chemnitz.de
ORGANIZER:MAILTO:olfa.kanoun@etit.tu-chemnitz.de
UID:13432@www.tu-chemnitz.de
CREATED:20110507T223200Z
DTSTAMP:20210802T192708Z
END:VEVENT
END:VCALENDAR
