BEGIN:VCALENDAR
VERSION:2.0
PRODID:TU Chemnitz
METHOD:PUBLISH
X-WR-CALNAME:Veranstaltungen der TU Chemnitz
X-WR-TIMEZONE:Europe/Berlin
BEGIN:VEVENT
CLASS:PUBLIC
DTSTART;TZID="Europe/Berlin":20110430T090000
DTEND;TZID="Europe/Berlin":20110430T160000
LOCATION:Reichenhainer Str. 90\, Chemnitz (Zentr. Hörsaal- und Seminargebäude)
SUMMARY:Interdisziplinäres Symposium: Identität und Entwicklung - die Bedeutung praktischer Lernerfahrungen (Fakultät für Human- und Sozialwissenschaften\, Professur für Allgemeine Psychologie und Biopsychologie)
DESCRIPTION:Begleitend zum Kunst- und Tanzprojekt "GROW UP!" referieren Prof. Dr. Udo Rudolph\, Prof. Dr. Heiner Rindermann\, Beate Ramm\, Dr. Sabine Al-Diban\, Dipl. Soz. Päd. Eric Maes und Thomas Bauer-Friedrich zur Bedeutung praktischer Lernerfahrungen.\nKeine Anmeldung nötig\, alle Interessierten sind herzlich eingeladen!
ORGANIZER:MAILTO:katrin.schulz@psychologie.tu-chemnitz.de
UID:13404@www.tu-chemnitz.de
CREATED:20110427T111600Z
DTSTAMP:20210802T192751Z
END:VEVENT
END:VCALENDAR
