BEGIN:VCALENDAR
VERSION:2.0
PRODID:TU Chemnitz
METHOD:PUBLISH
X-WR-CALNAME:Veranstaltungen der TU Chemnitz
X-WR-TIMEZONE:Europe/Berlin
BEGIN:VEVENT
CLASS:PUBLIC
DTSTART;TZID="Europe/Berlin":20110503T170000
DTEND;TZID="Europe/Berlin":20110503T190000
LOCATION:Reichenhainer Str. 90\, Chemnitz (Zentr. Hörsaal- und Seminargebäude)
SUMMARY:Messe-Knigge (Fakultät für Wirtschaftswissenschaften)
DESCRIPTION:Der Career Service und die Karriere-Expertin Angela Resch geben Tipps für die Präsentation auf Firmen-Kontaktmessen.\nAngela Resch\ncareer-service@tu-chemnitz.de
ORGANIZER:MAILTO:ronald.herzog@hrz.tu-chemnitz.de
UID:13395@www.tu-chemnitz.de
CREATED:20110419T095300Z
DTSTAMP:20210802T192731Z
END:VEVENT
END:VCALENDAR
