BEGIN:VCALENDAR
VERSION:2.0
PRODID:TU Chemnitz
METHOD:PUBLISH
X-WR-CALNAME:Veranstaltungen der TU Chemnitz
X-WR-TIMEZONE:Europe/Berlin
BEGIN:VEVENT
CLASS:PUBLIC
DTSTART;TZID="Europe/Berlin":20110428T130000
DTEND;TZID="Europe/Berlin":20110428T180000
LOCATION:Str. der Nationen 62\, Chemnitz (Böttcher-Bau)
SUMMARY:Chemikerwanderung (Fakultät für Naturwissenschaften\, FSR Chemie)
DESCRIPTION:fsr-chemie@tu-chemnitz.de
ORGANIZER:MAILTO:fsr-chemie@tu-chemnitz.de
UID:13376@www.tu-chemnitz.de
CREATED:20110413T115000Z
DTSTAMP:20210802T192757Z
END:VEVENT
END:VCALENDAR
