BEGIN:VCALENDAR
VERSION:2.0
PRODID:TU Chemnitz
METHOD:PUBLISH
X-WR-CALNAME:Veranstaltungen der TU Chemnitz
X-WR-TIMEZONE:Europe/Berlin
BEGIN:VEVENT
CLASS:PUBLIC
DTSTART;TZID="Europe/Berlin":20110530T090000
DTEND;TZID="Europe/Berlin":20110530T160000
LOCATION:Agentur für Arbeit Chemnitz
SUMMARY:Workshop zur Selbsterkundung (Agentur für Arbeit Chemnitz/Hochschulteam)
DESCRIPTION:Das eigene Qualifikationsprofil und berufliche Ziele erkennen und bestimmen.\nFrau Landmann und Frau Gottwald\, Beraterinnen für akad. Berufe\nAnmeldung unter Chemnitz.Hochschulteam@arbeitsagentur.de\, Tel. 0371/567-2240
ORGANIZER:MAILTO:evelin.haeusler@verwaltung.tu-chemnitz.de
UID:13367@www.tu-chemnitz.de
CREATED:20110412T080300Z
DTSTAMP:20210802T192735Z
END:VEVENT
END:VCALENDAR
