BEGIN:VCALENDAR
VERSION:2.0
PRODID:TU Chemnitz
METHOD:PUBLISH
X-WR-CALNAME:Veranstaltungen der TU Chemnitz
X-WR-TIMEZONE:Europe/Berlin
BEGIN:VEVENT
CLASS:PUBLIC
DTSTART;TZID="Europe/Berlin":20110427T190000
DTEND;TZID="Europe/Berlin":20110427T210000
LOCATION:Reichenhainer Str. 90\, Chemnitz (Zentr. Hörsaal- und Seminargebäude)
SUMMARY:Warum glauben\, wenn doch die Wissenschaft Wissen schafft? (SMD Chemnitz)
DESCRIPTION:Ein Vortrag mit anschließender Diskussion zum Thema Wissenschaft und Glauben. Wie passt das zusammen? Passt das überhaupt zusammen? Hat Gott im (natur-)wissenschaftlichen Denken Platz?\nProf. i.R. Dr. PETER C. HÄGELE \nmitzubringen sind: viele Fragen !
ORGANIZER:MAILTO:gerald.meier@s2007.tu-chemnitz.de
UID:13362@www.tu-chemnitz.de
CREATED:20110411T165700Z
DTSTAMP:20210802T192748Z
END:VEVENT
END:VCALENDAR
