BEGIN:VCALENDAR
VERSION:2.0
PRODID:TU Chemnitz
METHOD:PUBLISH
X-WR-CALNAME:Veranstaltungen der TU Chemnitz
X-WR-TIMEZONE:Europe/Berlin
BEGIN:VEVENT
CLASS:PUBLIC
DTSTART;TZID="Europe/Berlin":20001121T170000
DTEND;TZID="Europe/Berlin":20001121T183000
LOCATION:Uni-Teil 9: Wilhelm-Raabe-Str. 43\, Chemnitz
SUMMARY:Forschungskolloquium: "Zum Einfluss außerhäuslicher Tagesbetreuungsformen auf die Entwicklung von Kindern im Alter von 2 - 6 Jahren" (Teil 2 - Fortsetzung vom 11.07.00) (Philosophische Fakultät\, Institut für Psychologie)
DESCRIPTION:Dipl.-Psych. Janet Hoffmann\, TU Chemnitz\nFrau Rathgeber\, Tel. 0371/531-6413\, E-Mail: katrin.rathgeber@phil.tu-chemnitz.de
ORGANIZER:MAILTO:pfl@hrz.tu-chemnitz.de
UID:1336@www.tu-chemnitz.de
CREATED:20001010T115400Z
DTSTAMP:20210802T202844Z
END:VEVENT
END:VCALENDAR
