BEGIN:VCALENDAR
VERSION:2.0
PRODID:TU Chemnitz
METHOD:PUBLISH
X-WR-CALNAME:Veranstaltungen der TU Chemnitz
X-WR-TIMEZONE:Europe/Berlin
BEGIN:VEVENT
CLASS:PUBLIC
DTSTART;TZID="Europe/Berlin":20110420T201000
DTEND;TZID="Europe/Berlin":20110420T235900
LOCATION:Reichenhainer Str. 55\, Chemnitz (Mensa)
SUMMARY:XI. Campus Lesenacht und Ausstellung "Doofe Tiere" von Tobias Hesse (Philosophische Fakultät\, Romanische Kulturwissenschaft)
DESCRIPTION:LESEN BEFLÜGELT - Fremdes und Eigenes\, Altes und Neues\, in allen Sprachen. Spontan wird gelesen\, musiziert und debattiert. Das Studentenwerk sorgt fürs leibliche Wohl und Sie können sich auf eine außergewöhnliche Ausstellung freuen.\nMartin Bauch\, 0371/531-37677\, martin.bauch@phil.tu-chemnitz.de
ORGANIZER:MAILTO:martin.bauch@phil.tu-chemnitz.de
UID:13354@www.tu-chemnitz.de
CREATED:20110405T152100Z
DTSTAMP:20210802T192757Z
END:VEVENT
END:VCALENDAR
